Package: biscuiteer Version: 1.23.0 Command: /home/biocbuild/R/R/bin/R CMD build --keep-empty-dirs --no-resave-data biscuiteer StartedAt: 2025-07-21 22:23:06 -0000 (Mon, 21 Jul 2025) EndedAt: 2025-07-21 22:25:41 -0000 (Mon, 21 Jul 2025) EllapsedTime: 155.0 seconds RetCode: 0 Status: OK PackageFile: biscuiteer_1.23.0.tar.gz PackageFileSize: 4.828 MiB