Package: biovizBase Version: 1.57.1 Command: rm -rf biovizBase.buildbin-libdir && mkdir biovizBase.buildbin-libdir && F:\biocbuild\bbs-3.22-bioc\R\bin\R.exe CMD INSTALL --build --library=biovizBase.buildbin-libdir biovizBase_1.57.1.tar.gz StartedAt: 2025-08-15 09:51:17 -0400 (Fri, 15 Aug 2025) EndedAt: 2025-08-15 09:52:51 -0400 (Fri, 15 Aug 2025) EllapsedTime: 93.9 seconds RetCode: 0 Status: OK PackageFile: biovizBase_1.57.1.zip PackageFileSize: 2.557 MiB