Package: biotmle Version: 1.33.0 Command: F:\biocbuild\bbs-3.22-bioc\R\bin\R.exe CMD INSTALL biotmle StartedAt: 2025-07-14 16:32:19 -0400 (Mon, 14 Jul 2025) EndedAt: 2025-07-14 16:32:53 -0400 (Mon, 14 Jul 2025) EllapsedTime: 34.4 seconds RetCode: 0 Status: OK