Package: biotmle Version: 1.33.0 Command: chmod a+r biotmle -R && F:\biocbuild\bbs-3.22-bioc\R\bin\R.exe CMD build --keep-empty-dirs --no-resave-data biotmle StartedAt: 2025-07-14 17:40:32 -0400 (Mon, 14 Jul 2025) EndedAt: 2025-07-14 17:42:40 -0400 (Mon, 14 Jul 2025) EllapsedTime: 127.9 seconds RetCode: 0 Status: OK PackageFile: biotmle_1.33.0.tar.gz PackageFileSize: 269.8 KiB