Package: biotmle Version: 1.33.0 Command: /home/biocbuild/bbs-3.22-bioc/R/bin/R CMD INSTALL biotmle StartedAt: 2025-07-07 15:34:28 -0400 (Mon, 07 Jul 2025) EndedAt: 2025-07-07 15:34:54 -0400 (Mon, 07 Jul 2025) EllapsedTime: 26.3 seconds RetCode: 0 Status: OK