Package: biosigner Version: 1.37.4 Command: /home/biocbuild/R/R/bin/R CMD INSTALL biosigner StartedAt: 2025-07-14 20:58:15 -0000 (Mon, 14 Jul 2025) EndedAt: 2025-07-14 20:58:49 -0000 (Mon, 14 Jul 2025) EllapsedTime: 34.3 seconds RetCode: 0 Status: OK