Package: biosigner Version: 1.37.4 Command: /home/biocbuild/R/R/bin/R CMD build --keep-empty-dirs --no-resave-data biosigner StartedAt: 2025-07-14 22:12:23 -0000 (Mon, 14 Jul 2025) EndedAt: 2025-07-14 22:16:17 -0000 (Mon, 14 Jul 2025) EllapsedTime: 234.1 seconds RetCode: 0 Status: OK PackageFile: biosigner_1.37.4.tar.gz PackageFileSize: 4.142 MiB