Package: biosigner Version: 1.37.4 Command: F:\biocbuild\bbs-3.22-bioc\R\bin\R.exe CMD INSTALL biosigner StartedAt: 2025-07-20 16:52:56 -0400 (Sun, 20 Jul 2025) EndedAt: 2025-07-20 16:53:45 -0400 (Sun, 20 Jul 2025) EllapsedTime: 49.4 seconds RetCode: 0 Status: OK