Package: biosigner Version: 1.37.4 Command: chmod a+r biosigner -R && F:\biocbuild\bbs-3.22-bioc\R\bin\R.exe CMD build --keep-empty-dirs --no-resave-data biosigner StartedAt: 2025-07-20 17:39:25 -0400 (Sun, 20 Jul 2025) EndedAt: 2025-07-20 17:43:30 -0400 (Sun, 20 Jul 2025) EllapsedTime: 245.1 seconds RetCode: 0 Status: OK PackageFile: biosigner_1.37.4.tar.gz PackageFileSize: 4.089 MiB