Package: biosigner Version: 1.37.4 Command: rm -rf biosigner.buildbin-libdir && mkdir biosigner.buildbin-libdir && F:\biocbuild\bbs-3.22-bioc\R\bin\R.exe CMD INSTALL --build --library=biosigner.buildbin-libdir biosigner_1.37.4.tar.gz StartedAt: 2025-07-21 08:38:34 -0400 (Mon, 21 Jul 2025) EndedAt: 2025-07-21 08:39:27 -0400 (Mon, 21 Jul 2025) EllapsedTime: 52.9 seconds RetCode: 0 Status: OK PackageFile: biosigner_1.37.4.zip PackageFileSize: 4.463 MiB