Package: biosigner Version: 1.37.2 Command: /home/biocbuild/bbs-3.22-bioc/R/bin/R CMD INSTALL biosigner StartedAt: 2025-06-30 15:37:12 -0400 (Mon, 30 Jun 2025) EndedAt: 2025-06-30 15:37:42 -0400 (Mon, 30 Jun 2025) EllapsedTime: 30.0 seconds RetCode: 0 Status: OK