Package: biosigner Version: 1.37.4 Command: /Library/Frameworks/R.framework/Resources/bin/R CMD build --keep-empty-dirs --no-resave-data biosigner StartedAt: 2025-07-04 16:06:51 -0400 (Fri, 04 Jul 2025) EndedAt: 2025-07-04 16:09:46 -0400 (Fri, 04 Jul 2025) EllapsedTime: 174.9 seconds RetCode: 0 Status: OK PackageFile: biosigner_1.37.4.tar.gz PackageFileSize: 5.082 MiB