Package: biosigner Version: 1.37.4 Command: rm -rf biosigner.buildbin-libdir && mkdir biosigner.buildbin-libdir && /Users/biocbuild/BBS/utils/build-universal.sh biosigner_1.37.4.tar.gz /Library/Frameworks/R.framework/Resources/bin/R biosigner.buildbin-libdir StartedAt: 2025-07-05 00:36:11 -0400 (Sat, 05 Jul 2025) EndedAt: 2025-07-05 00:36:52 -0400 (Sat, 05 Jul 2025) EllapsedTime: 40.6 seconds RetCode: 0 Status: OK PackageFile: biosigner_1.37.4.tgz PackageFileSize: 5.454 MiB