Package: biosigner Version: 1.37.4 Command: /Library/Frameworks/R.framework/Resources/bin/R CMD check --install=check:biosigner.install-out.txt --library=/Library/Frameworks/R.framework/Resources/library --no-vignettes --timings biosigner_1.37.4.tar.gz StartedAt: 2025-07-07 18:15:11 -0400 (Mon, 07 Jul 2025) EndedAt: 2025-07-07 18:17:03 -0400 (Mon, 07 Jul 2025) EllapsedTime: 112.3 seconds RetCode: 1 Status: ERROR CheckDir: biosigner.Rcheck Warnings: NA