Package: biomvRCNS Version: 1.49.0 Command: /home/biocbuild/R/R/bin/R CMD INSTALL biomvRCNS StartedAt: 2025-07-24 21:57:57 -0000 (Thu, 24 Jul 2025) EndedAt: 2025-07-24 21:59:10 -0000 (Thu, 24 Jul 2025) EllapsedTime: 72.9 seconds RetCode: 0 Status: OK