Package: biomvRCNS Version: 1.49.0 Command: /home/biocbuild/R/R/bin/R CMD build --keep-empty-dirs --no-resave-data biomvRCNS StartedAt: 2025-07-24 23:02:24 -0000 (Thu, 24 Jul 2025) EndedAt: 2025-07-24 23:04:44 -0000 (Thu, 24 Jul 2025) EllapsedTime: 140.0 seconds RetCode: 0 Status: OK PackageFile: biomvRCNS_1.49.0.tar.gz PackageFileSize: 795.4 KiB