Package: biomvRCNS Version: 1.49.0 Command: /Library/Frameworks/R.framework/Resources/bin/R CMD INSTALL biomvRCNS StartedAt: 2025-07-21 15:24:45 -0400 (Mon, 21 Jul 2025) EndedAt: 2025-07-21 15:25:08 -0400 (Mon, 21 Jul 2025) EllapsedTime: 22.9 seconds RetCode: 0 Status: OK