Package: biomaRt Version: 2.65.0 Command: chmod a+r biomaRt -R && F:\biocbuild\bbs-3.22-bioc\R\bin\R.exe CMD build --keep-empty-dirs --no-resave-data biomaRt StartedAt: 2025-07-20 17:38:47 -0400 (Sun, 20 Jul 2025) EndedAt: 2025-07-20 17:40:46 -0400 (Sun, 20 Jul 2025) EllapsedTime: 118.9 seconds RetCode: 0 Status: OK PackageFile: biomaRt_2.65.0.tar.gz PackageFileSize: 842.5 KiB