Package: biomaRt Version: 2.65.0 Command: rm -rf biomaRt.buildbin-libdir && mkdir biomaRt.buildbin-libdir && F:\biocbuild\bbs-3.22-bioc\R\bin\R.exe CMD INSTALL --build --library=biomaRt.buildbin-libdir biomaRt_2.65.0.tar.gz StartedAt: 2025-07-21 08:38:12 -0400 (Mon, 21 Jul 2025) EndedAt: 2025-07-21 08:38:58 -0400 (Mon, 21 Jul 2025) EllapsedTime: 46.3 seconds RetCode: 0 Status: OK PackageFile: biomaRt_2.65.0.zip PackageFileSize: 935.7 KiB