Package: biomaRt Version: 2.65.0 Command: /home/biocbuild/bbs-3.22-bioc/R/bin/R CMD check --install=check:biomaRt.install-out.txt --library=/home/biocbuild/bbs-3.22-bioc/R/site-library --timings biomaRt_2.65.0.tar.gz StartedAt: 2025-07-15 20:20:20 -0400 (Tue, 15 Jul 2025) EndedAt: 2025-07-15 20:23:36 -0400 (Tue, 15 Jul 2025) EllapsedTime: 195.3 seconds RetCode: 0 Status: OK CheckDir: biomaRt.Rcheck Warnings: 0