Package: biomaRt Version: 2.65.0 Command: /Library/Frameworks/R.framework/Resources/bin/R CMD INSTALL biomaRt StartedAt: 2025-07-07 15:08:33 -0400 (Mon, 07 Jul 2025) EndedAt: 2025-07-07 15:08:39 -0400 (Mon, 07 Jul 2025) EllapsedTime: 6.0 seconds RetCode: 0 Status: OK