Package: biomaRt Version: 2.65.0 Command: /Library/Frameworks/R.framework/Resources/bin/R CMD check --install=check:biomaRt.install-out.txt --library=/Library/Frameworks/R.framework/Resources/library --no-vignettes --timings biomaRt_2.65.0.tar.gz StartedAt: 2025-07-07 18:14:43 -0400 (Mon, 07 Jul 2025) EndedAt: 2025-07-07 18:15:43 -0400 (Mon, 07 Jul 2025) EllapsedTime: 59.7 seconds RetCode: 0 Status: OK CheckDir: biomaRt.Rcheck Warnings: 0