Package: biomaRt Version: 2.65.0 Command: /Library/Frameworks/R.framework/Resources/bin/R CMD build --keep-empty-dirs --no-resave-data biomaRt StartedAt: 2025-07-07 15:43:16 -0400 (Mon, 07 Jul 2025) EndedAt: 2025-07-07 15:44:05 -0400 (Mon, 07 Jul 2025) EllapsedTime: 48.5 seconds RetCode: 0 Status: OK PackageFile: biomaRt_2.65.0.tar.gz PackageFileSize: 842.4 KiB