Package: biomaRt Version: 2.65.0 Command: rm -rf biomaRt.buildbin-libdir && mkdir biomaRt.buildbin-libdir && /Users/biocbuild/BBS/utils/build-universal.sh biomaRt_2.65.0.tar.gz /Library/Frameworks/R.framework/Resources/bin/R biomaRt.buildbin-libdir StartedAt: 2025-07-07 22:09:47 -0400 (Mon, 07 Jul 2025) EndedAt: 2025-07-07 22:09:54 -0400 (Mon, 07 Jul 2025) EllapsedTime: 7.1 seconds RetCode: 0 Status: OK PackageFile: biomaRt_2.65.0.tgz PackageFileSize: 930 KiB