Package: biodbUniprot Version: 1.15.0 Command: /home/biocbuild/R/R/bin/R CMD check --install=check:biodbUniprot.install-out.txt --library=/home/biocbuild/R/R/site-library --no-vignettes --timings biodbUniprot_1.15.0.tar.gz StartedAt: 2025-06-10 05:26:43 -0000 (Tue, 10 Jun 2025) EndedAt: 2025-06-10 05:31:52 -0000 (Tue, 10 Jun 2025) EllapsedTime: 309.1 seconds RetCode: 0 Status: OK CheckDir: biodbUniprot.Rcheck Warnings: 0