Package: biodbNcbi Version: 1.13.0 Command: /home/biocbuild/R/R/bin/R CMD check --install=check:biodbNcbi.install-out.txt --library=/home/biocbuild/R/R/site-library --no-vignettes --timings biodbNcbi_1.13.0.tar.gz StartedAt: 2025-06-10 05:13:51 -0000 (Tue, 10 Jun 2025) EndedAt: 2025-06-10 05:32:50 -0000 (Tue, 10 Jun 2025) EllapsedTime: 1139.4 seconds RetCode: 0 Status: OK CheckDir: biodbNcbi.Rcheck Warnings: 0