Package: biodbNcbi Version: 1.13.0 Command: F:\biocbuild\bbs-3.22-bioc\R\bin\R.exe CMD check --no-multiarch --install=check:biodbNcbi.install-out.txt --library=F:\biocbuild\bbs-3.22-bioc\R\library --no-vignettes --timings biodbNcbi_1.13.0.tar.gz StartedAt: 2025-06-11 23:42:40 -0400 (Wed, 11 Jun 2025) EndedAt: 2025-06-11 23:48:28 -0400 (Wed, 11 Jun 2025) EllapsedTime: 348.3 seconds RetCode: 0 Status: OK CheckDir: biodbNcbi.Rcheck Warnings: 0