Package: biodbNcbi Version: 1.13.0 Command: /home/biocbuild/bbs-3.22-bioc/R/bin/R CMD check --install=check:biodbNcbi.install-out.txt --library=/home/biocbuild/bbs-3.22-bioc/R/site-library --timings biodbNcbi_1.13.0.tar.gz StartedAt: 2025-06-11 20:37:42 -0400 (Wed, 11 Jun 2025) EndedAt: 2025-06-11 20:39:24 -0400 (Wed, 11 Jun 2025) EllapsedTime: 102.1 seconds RetCode: 0 Status: OK CheckDir: biodbNcbi.Rcheck Warnings: 0