Package: biodbNcbi Version: 1.13.0 Command: /home/biocbuild/bbs-3.22-bioc/R/bin/R CMD build --keep-empty-dirs --no-resave-data --md5 biodbNcbi StartedAt: 2025-07-11 16:18:59 -0400 (Fri, 11 Jul 2025) EndedAt: 2025-07-11 16:19:13 -0400 (Fri, 11 Jul 2025) EllapsedTime: 14.0 seconds RetCode: 1 Status: ERROR PackageFile: None PackageFileSize: NA