Package: biodbNcbi Version: 1.13.0 Command: /Library/Frameworks/R.framework/Resources/bin/R CMD build --keep-empty-dirs --no-resave-data biodbNcbi StartedAt: 2025-07-20 16:15:39 -0400 (Sun, 20 Jul 2025) EndedAt: 2025-07-20 16:16:00 -0400 (Sun, 20 Jul 2025) EllapsedTime: 21.8 seconds RetCode: 1 Status: ERROR PackageFile: None PackageFileSize: NA