Package: biodbNcbi Version: 1.13.0 Command: /Library/Frameworks/R.framework/Resources/bin/R CMD INSTALL biodbNcbi StartedAt: 2025-07-21 15:06:05 -0400 (Mon, 21 Jul 2025) EndedAt: 2025-07-21 15:06:10 -0400 (Mon, 21 Jul 2025) EllapsedTime: 5.1 seconds RetCode: 0 Status: OK