Package: biodbHmdb Version: 1.15.0 Command: /home/biocbuild/R/R/bin/R CMD build --keep-empty-dirs --no-resave-data biodbHmdb StartedAt: 2025-07-17 22:07:13 -0000 (Thu, 17 Jul 2025) EndedAt: 2025-07-17 22:08:08 -0000 (Thu, 17 Jul 2025) EllapsedTime: 55.0 seconds RetCode: 1 Status: ERROR PackageFile: None PackageFileSize: NA