Package: biodbHmdb Version: 1.15.0 Command: F:\biocbuild\bbs-3.22-bioc\R\bin\R.exe CMD check --no-multiarch --install=check:biodbHmdb.install-out.txt --library=F:\biocbuild\bbs-3.22-bioc\R\library --no-vignettes --timings biodbHmdb_1.15.0.tar.gz StartedAt: 2025-06-11 23:42:36 -0400 (Wed, 11 Jun 2025) EndedAt: 2025-06-11 23:50:20 -0400 (Wed, 11 Jun 2025) EllapsedTime: 464.2 seconds RetCode: 1 Status: ERROR CheckDir: biodbHmdb.Rcheck Warnings: NA