Package: biodbHmdb Version: 1.15.0 Command: /home/biocbuild/bbs-3.22-bioc/R/bin/R CMD build --keep-empty-dirs --no-resave-data --md5 biodbHmdb StartedAt: 2025-07-14 16:23:43 -0400 (Mon, 14 Jul 2025) EndedAt: 2025-07-14 16:24:23 -0400 (Mon, 14 Jul 2025) EllapsedTime: 40.0 seconds RetCode: 1 Status: ERROR PackageFile: None PackageFileSize: NA