Package: biodbHmdb Version: 1.15.0 Command: /Library/Frameworks/R.framework/Resources/bin/R CMD INSTALL biodbHmdb StartedAt: 2025-07-14 15:22:13 -0400 (Mon, 14 Jul 2025) EndedAt: 2025-07-14 15:22:47 -0400 (Mon, 14 Jul 2025) EllapsedTime: 33.7 seconds RetCode: 0 Status: OK