Package: biodbHmdb Version: 1.15.0 Command: /Library/Frameworks/R.framework/Resources/bin/R CMD build --keep-empty-dirs --no-resave-data biodbHmdb StartedAt: 2025-07-14 16:15:20 -0400 (Mon, 14 Jul 2025) EndedAt: 2025-07-14 16:16:12 -0400 (Mon, 14 Jul 2025) EllapsedTime: 51.6 seconds RetCode: 1 Status: ERROR PackageFile: None PackageFileSize: NA