Package: biodbChebi Version: 1.15.0 Command: /home/biocbuild/R/R/bin/R CMD check --install=check:biodbChebi.install-out.txt --library=/home/biocbuild/R/R/site-library --no-vignettes --timings biodbChebi_1.15.0.tar.gz StartedAt: 2025-06-06 06:57:48 -0000 (Fri, 06 Jun 2025) EndedAt: 2025-06-06 07:25:59 -0000 (Fri, 06 Jun 2025) EllapsedTime: 1690.2 seconds RetCode: 0 Status: OK CheckDir: biodbChebi.Rcheck Warnings: 0