Package: biodbChebi Version: 1.15.1 Command: /home/biocbuild/R/R/bin/R CMD build --keep-empty-dirs --no-resave-data biodbChebi StartedAt: 2025-07-10 23:22:55 -0000 (Thu, 10 Jul 2025) EndedAt: 2025-07-10 23:23:08 -0000 (Thu, 10 Jul 2025) EllapsedTime: 13.0 seconds RetCode: 1 Status: ERROR PackageFile: None PackageFileSize: NA