Package: biodbChebi Version: 1.15.1 Command: F:\biocbuild\bbs-3.22-bioc\R\bin\R.exe CMD INSTALL biodbChebi StartedAt: 2025-07-21 16:07:15 -0400 (Mon, 21 Jul 2025) EndedAt: 2025-07-21 16:07:32 -0400 (Mon, 21 Jul 2025) EllapsedTime: 16.9 seconds RetCode: 0 Status: OK