Package: biodbChebi Version: 1.15.1 Command: chmod a+r biodbChebi -R && F:\biocbuild\bbs-3.22-bioc\R\bin\R.exe CMD build --keep-empty-dirs --no-resave-data biodbChebi StartedAt: 2025-07-21 17:44:02 -0400 (Mon, 21 Jul 2025) EndedAt: 2025-07-21 17:44:39 -0400 (Mon, 21 Jul 2025) EllapsedTime: 37.2 seconds RetCode: 0 Status: OK PackageFile: biodbChebi_1.15.1.tar.gz PackageFileSize: 312.8 KiB