Package: biodbChebi Version: 1.15.1 Command: rm -rf biodbChebi.buildbin-libdir && mkdir biodbChebi.buildbin-libdir && F:\biocbuild\bbs-3.22-bioc\R\bin\R.exe CMD INSTALL --build --library=biodbChebi.buildbin-libdir biodbChebi_1.15.1.tar.gz StartedAt: 2025-07-22 08:41:19 -0400 (Tue, 22 Jul 2025) EndedAt: 2025-07-22 08:41:38 -0400 (Tue, 22 Jul 2025) EllapsedTime: 19.3 seconds RetCode: 0 Status: OK PackageFile: biodbChebi_1.15.1.zip PackageFileSize: 400.4 KiB