Package: biodbChebi Version: 1.15.1 Command: /home/biocbuild/bbs-3.22-bioc/R/bin/R CMD build --keep-empty-dirs --no-resave-data --md5 biodbChebi StartedAt: 2025-07-11 16:18:51 -0400 (Fri, 11 Jul 2025) EndedAt: 2025-07-11 16:19:04 -0400 (Fri, 11 Jul 2025) EllapsedTime: 13.0 seconds RetCode: 0 Status: OK PackageFile: biodbChebi_1.15.1.tar.gz PackageFileSize: 313.5 KiB