Package: biodbChebi Version: 1.15.1 Command: /Library/Frameworks/R.framework/Resources/bin/R CMD INSTALL biodbChebi StartedAt: 2025-07-02 15:12:56 -0400 (Wed, 02 Jul 2025) EndedAt: 2025-07-02 15:13:08 -0400 (Wed, 02 Jul 2025) EllapsedTime: 12.3 seconds RetCode: 0 Status: OK