Package: biodbChebi Version: 1.15.1 Command: /Library/Frameworks/R.framework/Resources/bin/R CMD check --install=check:biodbChebi.install-out.txt --library=/Library/Frameworks/R.framework/Resources/library --no-vignettes --timings biodbChebi_1.15.1.tar.gz StartedAt: 2025-07-02 19:15:42 -0400 (Wed, 02 Jul 2025) EndedAt: 2025-07-02 19:17:08 -0400 (Wed, 02 Jul 2025) EllapsedTime: 86.3 seconds RetCode: 0 Status: OK CheckDir: biodbChebi.Rcheck Warnings: 0