Package: biodbChebi Version: 1.15.1 Command: rm -rf biodbChebi.buildbin-libdir && mkdir biodbChebi.buildbin-libdir && /Users/biocbuild/BBS/utils/build-universal.sh biodbChebi_1.15.1.tar.gz /Library/Frameworks/R.framework/Resources/bin/R biodbChebi.buildbin-libdir StartedAt: 2025-07-05 00:36:02 -0400 (Sat, 05 Jul 2025) EndedAt: 2025-07-05 00:36:13 -0400 (Sat, 05 Jul 2025) EllapsedTime: 11.7 seconds RetCode: 0 Status: OK PackageFile: biodbChebi_1.15.1.tgz PackageFileSize: 394.5 KiB