Package: biodbChebi Version: 1.15.1 Command: rm -rf biodbChebi.buildbin-libdir && mkdir biodbChebi.buildbin-libdir && /Users/biocbuild/BBS/utils/build-universal.sh biodbChebi_1.15.1.tar.gz /Library/Frameworks/R.framework/Resources/bin/R biodbChebi.buildbin-libdir StartedAt: 2025-07-13 22:10:04 -0400 (Sun, 13 Jul 2025) EndedAt: 2025-07-13 22:10:09 -0400 (Sun, 13 Jul 2025) EllapsedTime: 4.1 seconds RetCode: 0 Status: OK PackageFile: biodbChebi_1.15.1.tgz PackageFileSize: 394.6 KiB