Package: biodb Version: 1.17.1 Command: F:\biocbuild\bbs-3.22-bioc\R\bin\R.exe CMD check --no-multiarch --install=check:biodb.install-out.txt --library=F:\biocbuild\bbs-3.22-bioc\R\library --no-vignettes --timings biodb_1.17.1.tar.gz StartedAt: 2025-07-11 23:45:59 -0400 (Fri, 11 Jul 2025) EndedAt: 2025-07-11 23:52:25 -0400 (Fri, 11 Jul 2025) EllapsedTime: 385.9 seconds RetCode: 0 Status: WARNINGS CheckDir: biodb.Rcheck Warnings: 1