Package: biodb Version: 1.17.1 Command: /Library/Frameworks/R.framework/Resources/bin/R CMD INSTALL biodb StartedAt: 2025-07-14 15:21:09 -0400 (Mon, 14 Jul 2025) EndedAt: 2025-07-14 15:22:13 -0400 (Mon, 14 Jul 2025) EllapsedTime: 64.3 seconds RetCode: 0 Status: OK