Package: biodb Version: 1.17.1 Command: /Library/Frameworks/R.framework/Resources/bin/R CMD check --install=check:biodb.install-out.txt --library=/Library/Frameworks/R.framework/Resources/library --no-vignettes --timings biodb_1.17.1.tar.gz StartedAt: 2025-07-17 19:19:13 -0400 (Thu, 17 Jul 2025) EndedAt: 2025-07-17 19:23:30 -0400 (Thu, 17 Jul 2025) EllapsedTime: 256.7 seconds RetCode: 0 Status: OK CheckDir: biodb.Rcheck Warnings: 0