Package: biodb Version: 1.17.1 Command: /Library/Frameworks/R.framework/Resources/bin/R CMD build --keep-empty-dirs --no-resave-data biodb StartedAt: 2025-07-16 16:13:07 -0400 (Wed, 16 Jul 2025) EndedAt: 2025-07-16 16:15:01 -0400 (Wed, 16 Jul 2025) EllapsedTime: 114.4 seconds RetCode: 0 Status: OK PackageFile: biodb_1.17.1.tar.gz PackageFileSize: 1.78 MiB